BEGIN:VCALENDAR
VERSION:2.0
PRODID:-//aldridgegardens.com//NONSGML kigkonsult.se iCalcreator 2.30.10//
CALSCALE:GREGORIAN
METHOD:PUBLISH
UID:ea718224-c96a-42b6-b060-733db5661687
X-WR-CALDESC:The October Bonsai Society Members Workshop will be held at Al
 dridge Gardens in our NaphCare Education Building. Please bring your trees
  to work on with John.\n\nYou will need to reserve your spot by using the 
 'register now' button at the top of this page. The number of reservations 
 is limited. \n\nIf you would like more information about the Aldridge Gard
 ens Bonsai Society\, please contact Janet Abernathy at janet.abernathy@hoo
 veralabama.gov. \n\n
X-WR-RELCALID:9e8296701a82b39b65f9ca93dc30245b
X-WR-TIMEZONE:America/Chicago
BEGIN:VTIMEZONE
TZID:America/Chicago
BEGIN:STANDARD
TZNAME:CST
DTSTART:20221106T020000
TZOFFSETFROM:-0500
TZOFFSETTO:-0600
RDATE:20231105T020000
RDATE:20241103T020000
END:STANDARD
BEGIN:DAYLIGHT
TZNAME:CDT
DTSTART:20230312T020000
TZOFFSETFROM:-0600
TZOFFSETTO:-0500
RDATE:20240310T020000
RDATE:20250309T020000
END:DAYLIGHT
END:VTIMEZONE
BEGIN:VEVENT
UID:0556a55c-139a-4f29-ad74-b8050d3532cb
DTSTAMP:20260419T221209Z
DESCRIPTION:The October Bonsai Society Members Workshop will be held at Ald
 ridge Gardens in our NaphCare Education Building. Please bring your trees 
 to work on with John.\n\nYou will need to reserve your spot by using the '
 register now' button at the top of this page. The number of reservations i
 s limited. \n\nIf you would like more information about the Aldridge Garde
 ns Bonsai Society\, please contact Janet Abernathy at janet.abernathy@hoov
 eralabama.gov. \n\n
DTSTART;TZID=America/Chicago:20231007T080000
DTEND;TZID=America/Chicago:20231007T110000
LOCATION:Education Building at Aldridge Gardens
SUMMARY:Bonsai Society Members Workshop
END:VEVENT
END:VCALENDAR
