BEGIN:VCALENDAR
VERSION:2.0
PRODID:-//aldridgegardens.com//NONSGML kigkonsult.se iCalcreator 2.30.10//
CALSCALE:GREGORIAN
METHOD:PUBLISH
UID:9adcee68-1b7b-402e-9d72-2f8243f8ff71
X-WR-CALDESC:The November Bonsai Society Members Workshop will be held at A
 ldridge Gardens in our NaphCare Education Building. Please bring your tree
 s to work on with John. This will be the last one for 2023. Our monthly wo
 rkshops will resume in February of 2024. \n\nYou will need to reserve your
  spot by using the 'register now' button at the top of this page. The numb
 er of reservations is limited. \n\nIf you would like more information abou
 t the Aldridge Gardens Bonsai Society\, please contact Janet Abernathy at 
 janet.abernathy@hooveralabama.gov. \n\n
X-WR-RELCALID:2b1acf979f8bd5203fc52b12b03c4acb
X-WR-TIMEZONE:America/Chicago
BEGIN:VTIMEZONE
TZID:America/Chicago
BEGIN:STANDARD
TZNAME:CST
DTSTART:20221106T020000
TZOFFSETFROM:-0500
TZOFFSETTO:-0600
RDATE:20231105T020000
RDATE:20241103T020000
END:STANDARD
BEGIN:DAYLIGHT
TZNAME:CDT
DTSTART:20230312T020000
TZOFFSETFROM:-0600
TZOFFSETTO:-0500
RDATE:20240310T020000
RDATE:20250309T020000
END:DAYLIGHT
END:VTIMEZONE
BEGIN:VEVENT
UID:567bd93f-1268-4c3f-a8fd-d99c7dacfd39
DTSTAMP:20260419T203652Z
DESCRIPTION:The November Bonsai Society Members Workshop will be held at Al
 dridge Gardens in our NaphCare Education Building. Please bring your trees
  to work on with John. This will be the last one for 2023. Our monthly wor
 kshops will resume in February of 2024. \n\nYou will need to reserve your 
 spot by using the 'register now' button at the top of this page. The numbe
 r of reservations is limited. \n\nIf you would like more information about
  the Aldridge Gardens Bonsai Society\, please contact Janet Abernathy at j
 anet.abernathy@hooveralabama.gov. \n\n
DTSTART;TZID=America/Chicago:20231104T080000
DTEND;TZID=America/Chicago:20231104T110000
LOCATION:Education Building at Aldridge Gardens
SUMMARY:Bonsai Society Members Workshop
END:VEVENT
END:VCALENDAR
