BEGIN:VCALENDAR
VERSION:2.0
PRODID:-//aldridgegardens.com//NONSGML kigkonsult.se iCalcreator 2.30.10//
CALSCALE:GREGORIAN
METHOD:PUBLISH
UID:d503c6f7-2927-4108-abcb-ceb369610728
X-WR-CALDESC:Aldridge Gardens will be hosting four\, half-day Alabama Bonsa
 i Society workshops on <b>Saturday\, February 3rd and Sunday\, February 4t
 h</b>. Bonsai artist\, Jim Doyle\, will be leading these classes. Each ses
 sion is $75.\n\nThe session times are:\n- Saturday\, February 3rd from 8:0
 0 a.m. - Noon\n- Saturday\, February 3rd from 1:00 p.m. - 5:00 p.m.\n- Sun
 day\, February 4th from 8:00 a.m. - Noon\n- Sunday\, February 4th from 1:0
 0 p.m. - 5:00 p.m.\n\nIf you would like <b>to sign up for a session\, plea
 se email the Alabama Bonsai Society at alabamabonsai@gmail.com</b> with yo
 ur first and second choice. Each session has multiple slots. It may be nec
 essary to balance and or limit the attendance for each session in order to
  provide an optimum experience.\n\n
X-WR-RELCALID:97035116cdcb95d2e10f546ab5b06a7d
X-WR-TIMEZONE:America/Chicago
BEGIN:VTIMEZONE
TZID:America/Chicago
BEGIN:STANDARD
TZNAME:CST
DTSTART:20231105T020000
TZOFFSETFROM:-0500
TZOFFSETTO:-0600
RDATE:20241103T020000
END:STANDARD
BEGIN:DAYLIGHT
TZNAME:CDT
DTSTART:20230312T020000
TZOFFSETFROM:-0600
TZOFFSETTO:-0500
RDATE:20240310T020000
RDATE:20250309T020000
END:DAYLIGHT
END:VTIMEZONE
BEGIN:VEVENT
UID:438074f2-d887-46db-aec4-7303a7341f0f
DTSTAMP:20260419T155515Z
DESCRIPTION:Aldridge Gardens will be hosting four\, half-day Alabama Bonsai
  Society workshops on <b>Saturday\, February 3rd and Sunday\, February 4th
 </b>. Bonsai artist\, Jim Doyle\, will be leading these classes. Each sess
 ion is $75.\n\nThe session times are:\n- Saturday\, February 3rd from 8:00
  a.m. - Noon\n- Saturday\, February 3rd from 1:00 p.m. - 5:00 p.m.\n- Sund
 ay\, February 4th from 8:00 a.m. - Noon\n- Sunday\, February 4th from 1:00
  p.m. - 5:00 p.m.\n\nIf you would like <b>to sign up for a session\, pleas
 e email the Alabama Bonsai Society at alabamabonsai@gmail.com</b> with you
 r first and second choice. Each session has multiple slots. It may be nece
 ssary to balance and or limit the attendance for each session in order to 
 provide an optimum experience.\n\n
DTSTART;TZID=America/Chicago:20240203T080000
DTEND;TZID=America/Chicago:20240203T163000
LOCATION:NaphCare Education Building at Aldridge Gardens
SUMMARY:Bonsai Workshop with Jim Doyle
END:VEVENT
END:VCALENDAR
