BEGIN:VCALENDAR
VERSION:2.0
PRODID:-//aldridgegardens.com//NONSGML kigkonsult.se iCalcreator 2.30.10//
CALSCALE:GREGORIAN
METHOD:PUBLISH
UID:19292cd1-cffa-4fe1-a065-0959cf6512d2
X-WR-CALDESC:Late winter is the time to prune two of our hydrangea species.
  Panicle hydrangeas (like ‘Limelight’) and smooth hydrangeas (like ‘Annabe
 lle’) both bloom on new growth and pruning this time of year can improve t
 heir blooming and appearance. This PowerPoint talk describes the recommend
 ed pruning method for smooth and panicle hydrangeas and how to take those 
 cut stems and turn them into new plants via hardwood propagation.\n\nThis 
 FREE one-hour program is on Saturday\, February 17 at 10 a.m. in the Aldri
 dge Gardens Education Building and is presented by master gardener David D
 oggett. Space is limited and registration is required.\n
X-WR-RELCALID:8fc2978e219522fb9097de1a36b86131
X-WR-TIMEZONE:America/Chicago
BEGIN:VTIMEZONE
TZID:America/Chicago
BEGIN:STANDARD
TZNAME:CST
DTSTART:20231105T020000
TZOFFSETFROM:-0500
TZOFFSETTO:-0600
RDATE:20241103T020000
END:STANDARD
BEGIN:DAYLIGHT
TZNAME:CDT
DTSTART:20230312T020000
TZOFFSETFROM:-0600
TZOFFSETTO:-0500
RDATE:20240310T020000
RDATE:20250309T020000
END:DAYLIGHT
END:VTIMEZONE
BEGIN:VEVENT
UID:c93b1720-4f30-49f5-aadd-d203d441424c
DTSTAMP:20260419T160240Z
DESCRIPTION:Late winter is the time to prune two of our hydrangea species. 
 Panicle hydrangeas (like ‘Limelight’) and smooth hydrangeas (like ‘Annabel
 le’) both bloom on new growth and pruning this time of year can improve th
 eir blooming and appearance. This PowerPoint talk describes the recommende
 d pruning method for smooth and panicle hydrangeas and how to take those c
 ut stems and turn them into new plants via hardwood propagation.\n\nThis F
 REE one-hour program is on Saturday\, February 17 at 10 a.m. in the Aldrid
 ge Gardens Education Building and is presented by master gardener David Do
 ggett. Space is limited and registration is required.\n
DTSTART;TZID=America/Chicago:20240217T100000
DTEND;TZID=America/Chicago:20240217T113000
LOCATION:Aldridge Gardens
SUMMARY:Hydrangea Winter Pruning and Propagation
END:VEVENT
END:VCALENDAR
