BEGIN:VCALENDAR
VERSION:2.0
PRODID:-//aldridgegardens.com//NONSGML kigkonsult.se iCalcreator 2.30.10//
CALSCALE:GREGORIAN
METHOD:PUBLISH
UID:162e593a-af3d-4c2c-b2a4-2da4644f6830
X-WR-CALDESC:Come hear a presentation on the azalea hybridizing work of Mob
 ile native Dr. Eugene Aromi and learn how he took the exquisitely blooming
  English Exbury azaleas and bred them to thrive in Alabama’s heat and humi
 dity. These deciduous azaleas are both tough and stunningly beautiful in b
 loom. We’ll end by taking a walk through the new Aromi Azalea Garden with 
 its collection of more than 30 Aromi azaleas – most of which should be in 
 bloom. You may want to take pictures! Presented by David Doggett. \n\nThis
  talk is free but registration is required. Space is limited. \n
X-WR-RELCALID:46604f4757d9a85062911c91d129b12f
X-WR-TIMEZONE:America/Chicago
BEGIN:VTIMEZONE
TZID:America/Chicago
BEGIN:STANDARD
TZNAME:CST
DTSTART:20231105T020000
TZOFFSETFROM:-0500
TZOFFSETTO:-0600
RDATE:20241103T020000
END:STANDARD
BEGIN:DAYLIGHT
TZNAME:CDT
DTSTART:20240310T020000
TZOFFSETFROM:-0600
TZOFFSETTO:-0500
RDATE:20250309T020000
END:DAYLIGHT
END:VTIMEZONE
BEGIN:VEVENT
UID:a43e34f1-00d7-4957-b50a-cab089d89138
DTSTAMP:20260419T122409Z
DESCRIPTION:Come hear a presentation on the azalea hybridizing work of Mobi
 le native Dr. Eugene Aromi and learn how he took the exquisitely blooming 
 English Exbury azaleas and bred them to thrive in Alabama’s heat and humid
 ity. These deciduous azaleas are both tough and stunningly beautiful in bl
 oom. We’ll end by taking a walk through the new Aromi Azalea Garden with i
 ts collection of more than 30 Aromi azaleas – most of which should be in b
 loom. You may want to take pictures! Presented by David Doggett. \n\nThis 
 talk is free but registration is required. Space is limited. \n
DTSTART;TZID=America/Chicago:20240407T133000
DTEND;TZID=America/Chicago:20240407T150000
LOCATION:NaphCare Education Building at Aldridge Gardens
SUMMARY:Aromi Azaleas Talk and Tour
END:VEVENT
END:VCALENDAR
