BEGIN:VCALENDAR
VERSION:2.0
PRODID:-//aldridgegardens.com//NONSGML kigkonsult.se iCalcreator 2.30.10//
CALSCALE:GREGORIAN
METHOD:PUBLISH
UID:43ca09a4-c92f-4d0e-ac95-a96afa8a0dd4
X-WR-CALDESC:We're partnering together with Alabama Urban Forestry Associat
 ion\, Arbor Day Foundation\, State Farm\, and the City of Hoover to give a
 way 500 three-gallon trees! \n\nTree varieties include Kousa Dogwood\, Fri
 ngetree\, Blackgum\, Overcup Oak\, Bald Cypress\, Chaste Tree\, Southern S
 ugar Maple\, Redbud\, and Riverbirch. \n\nStop by and get a free tree to p
 lant in your yard or garden. Friday\, November 15th\, 2024\, from 8 until 
 noon while supplies last.
X-WR-RELCALID:a0f2695b727cdc8d76c9df8a9b228ee2
X-WR-TIMEZONE:America/Chicago
BEGIN:VTIMEZONE
TZID:America/Chicago
BEGIN:STANDARD
TZNAME:CST
DTSTART:20241103T020000
TZOFFSETFROM:-0500
TZOFFSETTO:-0600
RDATE:20251102T020000
END:STANDARD
BEGIN:DAYLIGHT
TZNAME:CDT
DTSTART:20240310T020000
TZOFFSETFROM:-0600
TZOFFSETTO:-0500
RDATE:20250309T020000
RDATE:20260308T020000
END:DAYLIGHT
END:VTIMEZONE
BEGIN:VEVENT
UID:a40d929b-3286-46ca-bc46-ec777bef835a
DTSTAMP:20260421T124935Z
DESCRIPTION:We're partnering together with Alabama Urban Forestry Associati
 on\, Arbor Day Foundation\, State Farm\, and the City of Hoover to give aw
 ay 500 three-gallon trees! \n\nTree varieties include Kousa Dogwood\, Frin
 getree\, Blackgum\, Overcup Oak\, Bald Cypress\, Chaste Tree\, Southern Su
 gar Maple\, Redbud\, and Riverbirch. \n\nStop by and get a free tree to pl
 ant in your yard or garden. Friday\, November 15th\, 2024\, from 8 until n
 oon while supplies last.
DTSTART;TZID=America/Chicago:20241115T080000
DTEND;TZID=America/Chicago:20241115T120000
LOCATION:Aldridge Gardens
SUMMARY:Tree Giveaway
END:VEVENT
END:VCALENDAR
