BEGIN:VCALENDAR
VERSION:2.0
PRODID:-//aldridgegardens.com//NONSGML kigkonsult.se iCalcreator 2.30.10//
CALSCALE:GREGORIAN
METHOD:PUBLISH
UID:638903bc-7014-4596-bbbe-fb28f2e0d92e
X-WR-CALDESC:Join us as we learn all about our furry friend\, the squirrel!
  We will start with a 'read-aloud' and then venture out in the gardens on 
 a squirrel hunt. After journaling our observations\, we will create squirr
 el feeders for the nature kids to bring home (allergy warning: we will be 
 using peanut butter.) \n\n<b>Cost is $10. <a href='https://hoover.recdesk.
 com/Community/Program/Detail?programId=430' target='_blank' rel='noreferre
 r noopener'>Click here to register on the City of Hoover Parks and Recreat
 ion site.</a></b> \n\n<u>Children ages 4-10</u> will experience a differen
 t nature theme each month. Class sizes are limited and preregistration is 
 required. Join us for a hands-on learning adventure! \n\nHere's our 2025 w
 inter and spring schedule:\nJanuary 21 - Squirrels on the Loose\nFebruary 
 18 - It's a Valentine Wonderland\nMarch 18 - Amazing Birds! \nApril 15 - G
 et in the Garden\nMay 27 - Pollinators Rock! \n\n\n\n\n
X-WR-RELCALID:8caa52b8903da93730acedf25692b8dd
X-WR-TIMEZONE:America/Chicago
BEGIN:VTIMEZONE
TZID:America/Chicago
BEGIN:STANDARD
TZNAME:CST
DTSTART:20241103T020000
TZOFFSETFROM:-0500
TZOFFSETTO:-0600
RDATE:20251102T020000
END:STANDARD
BEGIN:DAYLIGHT
TZNAME:CDT
DTSTART:20240310T020000
TZOFFSETFROM:-0600
TZOFFSETTO:-0500
RDATE:20250309T020000
RDATE:20260308T020000
END:DAYLIGHT
END:VTIMEZONE
BEGIN:VEVENT
UID:387ec43f-383d-4320-b534-c5729c9e686d
DTSTAMP:20260421T160842Z
DESCRIPTION:Join us as we learn all about our furry friend\, the squirrel! 
 We will start with a 'read-aloud' and then venture out in the gardens on a
  squirrel hunt. After journaling our observations\, we will create squirre
 l feeders for the nature kids to bring home (allergy warning: we will be u
 sing peanut butter.) \n\n<b>Cost is $10. <a href='https://hoover.recdesk.c
 om/Community/Program/Detail?programId=430' target='_blank' rel='noreferrer
  noopener'>Click here to register on the City of Hoover Parks and Recreati
 on site.</a></b> \n\n<u>Children ages 4-10</u> will experience a different
  nature theme each month. Class sizes are limited and preregistration is r
 equired. Join us for a hands-on learning adventure! \n\nHere's our 2025 wi
 nter and spring schedule:\nJanuary 21 - Squirrels on the Loose\nFebruary 1
 8 - It's a Valentine Wonderland\nMarch 18 - Amazing Birds! \nApril 15 - Ge
 t in the Garden\nMay 27 - Pollinators Rock! \n\n\n\n\n
DTSTART;TZID=America/Chicago:20250121T100000
DTEND;TZID=America/Chicago:20250121T113000
LOCATION:Aldridge Gardens
SUMMARY:Nature Kids - Squirrels on the Loose
END:VEVENT
END:VCALENDAR
