BEGIN:VCALENDAR
VERSION:2.0
PRODID:-//aldridgegardens.com//NONSGML kigkonsult.se iCalcreator 2.30.10//
CALSCALE:GREGORIAN
METHOD:PUBLISH
UID:66df46fe-7d13-4565-861a-5297413fc19c
X-WR-CALDESC:The February Bonsai Society Members Workshop will be held on S
 aturday the 1st in the NaphCare Education Building at Aldridge Gardens. Pl
 ease bring your trees to work on with John. \n\nYou will need to reserve y
 our spot by using the 'register now' button at the top of this page. The n
 umber of reservations is limited. \n\n<b>This is the first scheduled bonsa
 i workshop for 2024. </b>\n\nIf you would like more information about the 
 Aldridge Gardens Bonsai Society\, please contact Janet Abernathy at janet.
 abernathy@hooveralabama.gov. \n\n
X-WR-RELCALID:4d3eae24df758f79da914dff9658d8c1
X-WR-TIMEZONE:America/Chicago
BEGIN:VTIMEZONE
TZID:America/Chicago
BEGIN:STANDARD
TZNAME:CST
DTSTART:20241103T020000
TZOFFSETFROM:-0500
TZOFFSETTO:-0600
RDATE:20251102T020000
END:STANDARD
BEGIN:DAYLIGHT
TZNAME:CDT
DTSTART:20240310T020000
TZOFFSETFROM:-0600
TZOFFSETTO:-0500
RDATE:20250309T020000
RDATE:20260308T020000
END:DAYLIGHT
END:VTIMEZONE
BEGIN:VEVENT
UID:004fb6a0-2692-4463-b7e5-adaaf39ef54d
DTSTAMP:20260421T175010Z
DESCRIPTION:The February Bonsai Society Members Workshop will be held on Sa
 turday the 1st in the NaphCare Education Building at Aldridge Gardens. Ple
 ase bring your trees to work on with John. \n\nYou will need to reserve yo
 ur spot by using the 'register now' button at the top of this page. The nu
 mber of reservations is limited. \n\n<b>This is the first scheduled bonsai
  workshop for 2024. </b>\n\nIf you would like more information about the A
 ldridge Gardens Bonsai Society\, please contact Janet Abernathy at janet.a
 bernathy@hooveralabama.gov. \n\n
DTSTART;TZID=America/Chicago:20250201T080000
DTEND;TZID=America/Chicago:20250201T110000
LOCATION:Education Building at Aldridge Gardens
SUMMARY:Bonsai Society Members Workshop
END:VEVENT
END:VCALENDAR
