BEGIN:VCALENDAR
VERSION:2.0
PRODID:-//aldridgegardens.com//NONSGML kigkonsult.se iCalcreator 2.30.10//
CALSCALE:GREGORIAN
METHOD:PUBLISH
UID:01a0cfa3-1fdd-4778-bc8a-80912431d5e9
X-WR-CALDESC:Join us as we have a Valentine adventure in the Gardens! The N
 ature Kids will discover hearts in nature\, create a valentine tree\, and 
 have a special visit from the Hoover Library. Be sure to bring a Mason Jar
  to take your tree home!\n\n<b><a href='https://hoover.recdesk.com/Communi
 ty/Program/Detail?programId=430' target='_blank' rel='noreferrer noopener'
 >Click here to register through the City of Hoover Parks and Recreation si
 te.</a> Cost is $10. </b> \n\n<u>Children ages 4-10</u> will experience a 
 different nature theme each month. Class sizes are limited and preregistra
 tion is required. Join us for a hands-on learning adventure! \n\nHere's th
 e remainder of our 2025 winter and spring schedule:\nFebruary 18 - It's a 
 Valentine Wonderland\nMarch 18 - Amazing Birds! \nApril 15 - Get in the Ga
 rden\nMay 27 - Pollinators Rock! \n\n\n\n\n
X-WR-RELCALID:8d207da77cdada94a8530d51d770e4d3
X-WR-TIMEZONE:America/Chicago
BEGIN:VTIMEZONE
TZID:America/Chicago
BEGIN:STANDARD
TZNAME:CST
DTSTART:20241103T020000
TZOFFSETFROM:-0500
TZOFFSETTO:-0600
RDATE:20251102T020000
END:STANDARD
BEGIN:DAYLIGHT
TZNAME:CDT
DTSTART:20240310T020000
TZOFFSETFROM:-0600
TZOFFSETTO:-0500
RDATE:20250309T020000
RDATE:20260308T020000
END:DAYLIGHT
END:VTIMEZONE
BEGIN:VEVENT
UID:f6f9022b-8164-4e52-82f4-0d5627b232a3
DTSTAMP:20260421T175327Z
DESCRIPTION:Join us as we have a Valentine adventure in the Gardens! The Na
 ture Kids will discover hearts in nature\, create a valentine tree\, and h
 ave a special visit from the Hoover Library. Be sure to bring a Mason Jar 
 to take your tree home!\n\n<b><a href='https://hoover.recdesk.com/Communit
 y/Program/Detail?programId=430' target='_blank' rel='noreferrer noopener'>
 Click here to register through the City of Hoover Parks and Recreation sit
 e.</a> Cost is $10. </b> \n\n<u>Children ages 4-10</u> will experience a d
 ifferent nature theme each month. Class sizes are limited and preregistrat
 ion is required. Join us for a hands-on learning adventure! \n\nHere's the
  remainder of our 2025 winter and spring schedule:\nFebruary 18 - It's a V
 alentine Wonderland\nMarch 18 - Amazing Birds! \nApril 15 - Get in the Gar
 den\nMay 27 - Pollinators Rock! \n\n\n\n\n
DTSTART;TZID=America/Chicago:20250218T100000
DTEND;TZID=America/Chicago:20250218T110000
LOCATION:Aldridge Gardens
SUMMARY:Nature Kids - It's a Valentine Wonderland
END:VEVENT
END:VCALENDAR
