BEGIN:VCALENDAR
VERSION:2.0
PRODID:-//aldridgegardens.com//NONSGML kigkonsult.se iCalcreator 2.30.10//
CALSCALE:GREGORIAN
METHOD:PUBLISH
UID:bb94a016-51b6-4316-95f5-9622cfa8d553
X-WR-CALDESC:Join us for an Arbor Day extravaganza hosted by the Beautifica
 tion Board!\n\nEnjoy the beauty of nature with <b>free trees</b> while sup
 plies last\, an Arbor Day proclamation by Mayor Frank Brocato\, plus craft
 s and story time for kids. Let's cultivate a greener\, vibrant community t
 ogether! \n\nOverflow shuttle parking will be available from the old Bed B
 ath and Beyond parking lot (at Riverchase Crossings) located at 1771 Montg
 omery Hwy\, Hoover\, AL 35216.\n\n#UniteServeEnrich #ParksandRec #CityOfHo
 over #ArborDayCelebration\n
X-WR-RELCALID:9f63d3c9f69c2284fd3daa9004eb63c9
X-WR-TIMEZONE:America/Chicago
BEGIN:VTIMEZONE
TZID:America/Chicago
BEGIN:STANDARD
TZNAME:CST
DTSTART:20241103T020000
TZOFFSETFROM:-0500
TZOFFSETTO:-0600
RDATE:20251102T020000
END:STANDARD
BEGIN:DAYLIGHT
TZNAME:CDT
DTSTART:20240310T020000
TZOFFSETFROM:-0600
TZOFFSETTO:-0500
RDATE:20250309T020000
RDATE:20260308T020000
END:DAYLIGHT
END:VTIMEZONE
BEGIN:VEVENT
UID:51ca501d-c702-40e4-8e7d-58e9523bde60
DTSTAMP:20260421T190630Z
DESCRIPTION:Join us for an Arbor Day extravaganza hosted by the Beautificat
 ion Board!\n\nEnjoy the beauty of nature with <b>free trees</b> while supp
 lies last\, an Arbor Day proclamation by Mayor Frank Brocato\, plus crafts
  and story time for kids. Let's cultivate a greener\, vibrant community to
 gether! \n\nOverflow shuttle parking will be available from the old Bed Ba
 th and Beyond parking lot (at Riverchase Crossings) located at 1771 Montgo
 mery Hwy\, Hoover\, AL 35216.\n\n#UniteServeEnrich #ParksandRec #CityOfHoo
 ver #ArborDayCelebration\n
DTSTART;TZID=America/Chicago:20250301T080000
DTEND;TZID=America/Chicago:20250301T110000
LOCATION:Aldridge Gardens
SUMMARY:City of Hoover’s 26th Annual Arbor Day Celebration
END:VEVENT
END:VCALENDAR
