BEGIN:VCALENDAR
VERSION:2.0
PRODID:-//aldridgegardens.com//NONSGML kigkonsult.se iCalcreator 2.30.10//
CALSCALE:GREGORIAN
METHOD:PUBLISH
UID:7303728f-c578-4d76-8655-c582a99dd090
X-WR-CALDESC:Join Jim Jacobi to learn about the potential diseases & insect
  problems found in home landscapes and how to prevent them this year.\n\nT
 his event is free\, but you will need to reserve your spot by using the 'r
 egister now' button at the top of this page. The number of reservations is
  limited. \n\nDr. Jacobi is employed with the Alabama Cooperative Extensio
 n System as an Extension Plant Pathologist. He has a B.S. in Forestry from
  the University of Vermont\, an M.S. in Forest Pathology from Clemson Univ
 ersity\, and a Ph.D. in Plant Pathology from Auburn University. For the la
 st 25 years\, he has managed the Extension Plant Diagnostic Laboratory at 
 the Birmingham Botanical Gardens. \n\n
X-WR-RELCALID:27fc2fea6b7a3fb23b00f92bd63b90fd
X-WR-TIMEZONE:America/Chicago
BEGIN:VTIMEZONE
TZID:America/Chicago
BEGIN:STANDARD
TZNAME:CST
DTSTART:20241103T020000
TZOFFSETFROM:-0500
TZOFFSETTO:-0600
RDATE:20251102T020000
END:STANDARD
BEGIN:DAYLIGHT
TZNAME:CDT
DTSTART:20240310T020000
TZOFFSETFROM:-0600
TZOFFSETTO:-0500
RDATE:20250309T020000
RDATE:20260308T020000
END:DAYLIGHT
END:VTIMEZONE
BEGIN:VEVENT
UID:49a10d3b-8c1b-4ecb-b25b-761077322151
DTSTAMP:20260421T191618Z
DESCRIPTION:Join Jim Jacobi to learn about the potential diseases & insect 
 problems found in home landscapes and how to prevent them this year.\n\nTh
 is event is free\, but you will need to reserve your spot by using the 're
 gister now' button at the top of this page. The number of reservations is 
 limited. \n\nDr. Jacobi is employed with the Alabama Cooperative Extension
  System as an Extension Plant Pathologist. He has a B.S. in Forestry from 
 the University of Vermont\, an M.S. in Forest Pathology from Clemson Unive
 rsity\, and a Ph.D. in Plant Pathology from Auburn University. For the las
 t 25 years\, he has managed the Extension Plant Diagnostic Laboratory at t
 he Birmingham Botanical Gardens. \n\n
DTSTART;TZID=America/Chicago:20250308T103000
DTEND;TZID=America/Chicago:20250308T113000
LOCATION:Education Building at Aldridge Gardens
SUMMARY:Backyard Bugs and Diseases 101
END:VEVENT
END:VCALENDAR
