BEGIN:VCALENDAR
VERSION:2.0
PRODID:-//aldridgegardens.com//NONSGML kigkonsult.se iCalcreator 2.30.10//
CALSCALE:GREGORIAN
METHOD:PUBLISH
UID:1af5c7d9-b251-4576-8e52-38b1945e3189
X-WR-CALDESC:Join us for our annual Spring Plant Sale.\n\nAnnual Spring Pla
 nt Sale - Thursday\, April 3 - 9 a.m. to 5 p.m.\nAnnual Spring Plant Sale 
 - Friday\, April 4 - 9 a.m. to 5 p.m.\nAnnual Spring Plant Sale - Saturday
 \, April 5 - 8:30 a.m. to Noon\n\nFind the perfect plants for your contain
 er or garden spot! Volunteers and gardeners will be on hand to help with s
 elections and to give advice about placement\, care and maintenance. \n\nA
 ldridge Gardens members get 10% off all purchases with their membership ca
 rd!\n\n<b><a href='https://aldridgegardens.com/education/events/annual_eve
 nts/annual_plant_sale/featured_plants.html'>Click here to see our list of 
 featured plants for this year's sale.</a></b>
X-WR-RELCALID:58046bb12bf16f99e3bcb4932843538a
X-WR-TIMEZONE:America/Chicago
BEGIN:VTIMEZONE
TZID:America/Chicago
BEGIN:STANDARD
TZNAME:CST
DTSTART:20241103T020000
TZOFFSETFROM:-0500
TZOFFSETTO:-0600
RDATE:20251102T020000
END:STANDARD
BEGIN:DAYLIGHT
TZNAME:CDT
DTSTART:20250309T020000
TZOFFSETFROM:-0600
TZOFFSETTO:-0500
RDATE:20260308T020000
END:DAYLIGHT
END:VTIMEZONE
BEGIN:VEVENT
UID:8f45e59f-ee50-47f2-bf16-69e1a7d0926f
DTSTAMP:20260421T211206Z
DESCRIPTION:Join us for our annual Spring Plant Sale.\n\nAnnual Spring Plan
 t Sale - Thursday\, April 3 - 9 a.m. to 5 p.m.\nAnnual Spring Plant Sale -
  Friday\, April 4 - 9 a.m. to 5 p.m.\nAnnual Spring Plant Sale - Saturday\
 , April 5 - 8:30 a.m. to Noon\n\nFind the perfect plants for your containe
 r or garden spot! Volunteers and gardeners will be on hand to help with se
 lections and to give advice about placement\, care and maintenance. \n\nAl
 dridge Gardens members get 10% off all purchases with their membership car
 d!\n\n<b><a href='https://aldridgegardens.com/education/events/annual_even
 ts/annual_plant_sale/featured_plants.html'>Click here to see our list of f
 eatured plants for this year's sale.</a></b>
DTSTART;TZID=America/Chicago:20250403T090000
DTEND;TZID=America/Chicago:20250403T170000
LOCATION:Aldridge Gardens
SUMMARY:Annual Spring Plant Sale
END:VEVENT
END:VCALENDAR
