BEGIN:VCALENDAR
VERSION:2.0
PRODID:-//aldridgegardens.com//NONSGML kigkonsult.se iCalcreator 2.30.10//
CALSCALE:GREGORIAN
METHOD:PUBLISH
UID:57191c7b-9612-43df-8726-64093b03fb6b
X-WR-CALDESC:Join us as learn about our special friends -- the pollinators!
  The Nature Kids will learn about pollination\, pollinators\, and the impo
 rtance of native plants. We'll also make a bee watering station to take ho
 me and enjoy a special storytime visit from the Hoover Library. You can ev
 en check out books to bring home!\n\n<b><a href='https://hoover.recdesk.co
 m/Community/Program/Detail?programId=554' target='_blank' rel='noreferrer 
 noopener'>Click here to register through the City of Hoover Parks and Recr
 eation site.</a> Cost is $10. </b> \n\nThis is a hands-on learning adventu
 re for <u>children ages 4-10</u>. Class sizes are limited and preregistrat
 ion is required.\n\n
X-WR-RELCALID:0a120debf046f239c383d57da7ba6666
X-WR-TIMEZONE:America/Chicago
BEGIN:VTIMEZONE
TZID:America/Chicago
BEGIN:STANDARD
TZNAME:CST
DTSTART:20241103T020000
TZOFFSETFROM:-0500
TZOFFSETTO:-0600
RDATE:20251102T020000
RDATE:20261101T020000
END:STANDARD
BEGIN:DAYLIGHT
TZNAME:CDT
DTSTART:20250309T020000
TZOFFSETFROM:-0600
TZOFFSETTO:-0500
RDATE:20260308T020000
END:DAYLIGHT
END:VTIMEZONE
BEGIN:VEVENT
UID:b716694a-a99b-4289-b23d-1d21a779cf79
DTSTAMP:20260421T224726Z
DESCRIPTION:Join us as learn about our special friends -- the pollinators! 
 The Nature Kids will learn about pollination\, pollinators\, and the impor
 tance of native plants. We'll also make a bee watering station to take hom
 e and enjoy a special storytime visit from the Hoover Library. You can eve
 n check out books to bring home!\n\n<b><a href='https://hoover.recdesk.com
 /Community/Program/Detail?programId=554' target='_blank' rel='noreferrer n
 oopener'>Click here to register through the City of Hoover Parks and Recre
 ation site.</a> Cost is $10. </b> \n\nThis is a hands-on learning adventur
 e for <u>children ages 4-10</u>. Class sizes are limited and preregistrati
 on is required.\n\n
DTSTART;TZID=America/Chicago:20250527T100000
DTEND;TZID=America/Chicago:20250527T110000
LOCATION:Aldridge Gardens
SUMMARY:Nature Kids - Pollinators Rock!
END:VEVENT
END:VCALENDAR
