BEGIN:VCALENDAR
VERSION:2.0
PRODID:-//aldridgegardens.com//NONSGML kigkonsult.se iCalcreator 2.30.10//
CALSCALE:GREGORIAN
METHOD:PUBLISH
UID:e2eef944-86c1-4c6e-9b42-b4fdf87f33bb
X-WR-CALDESC:Join us for a fun and interactive way to learn about the weath
 er with ABC 3340's Evan Chickvara! In the house at Aldridge Gardens on Wed
 nesday\, June 11\, from 1 to 2 p.m. All ages are welcome and no registrati
 on is required.
X-WR-RELCALID:36a101f78144d4816e73cf1a53a16cb2
X-WR-TIMEZONE:America/Chicago
BEGIN:VTIMEZONE
TZID:America/Chicago
BEGIN:STANDARD
TZNAME:CST
DTSTART:20241103T020000
TZOFFSETFROM:-0500
TZOFFSETTO:-0600
RDATE:20251102T020000
RDATE:20261101T020000
END:STANDARD
BEGIN:DAYLIGHT
TZNAME:CDT
DTSTART:20250309T020000
TZOFFSETFROM:-0600
TZOFFSETTO:-0500
RDATE:20260308T020000
END:DAYLIGHT
END:VTIMEZONE
BEGIN:VEVENT
UID:92cbb642-402c-43c4-ba17-6f29aad31b9b
DTSTAMP:20260422T004814Z
DESCRIPTION:Join us for a fun and interactive way to learn about the weathe
 r with ABC 3340's Evan Chickvara! In the house at Aldridge Gardens on Wedn
 esday\, June 11\, from 1 to 2 p.m. All ages are welcome and no registratio
 n is required.
DTSTART;TZID=America/Chicago:20250611T130000
DTEND;TZID=America/Chicago:20250611T140000
LOCATION:Aldridge Gardens
SUMMARY:Weather of the Seasons with ABC 3340's Evan Chickvara
END:VEVENT
END:VCALENDAR
