BEGIN:VCALENDAR
VERSION:2.0
PRODID:-//aldridgegardens.com//NONSGML kigkonsult.se iCalcreator 2.30.10//
CALSCALE:GREGORIAN
METHOD:PUBLISH
UID:25564127-16fb-4633-aa9c-1b3257f22cdd
X-WR-CALDESC:<b>TASTE OF HOOVER 2025</b>\n\n<b>THIS EVENT IS NOW SOLD OUT</
 b>\n\nTaste of Hoover celebrates the variety of culinary styles found thro
 ughout the city. Enjoy an autumn evening at the Gardens while sampling del
 icious dishes from some of Hoover's best restaurants\, caterers\, and more
 . Plus\, get ready to taste assorted beverages and soft drinks while liste
 ning to music. \n\nSee our list of food and beverage providers below. One 
 ticket provides you with access to all of these different food and drink o
 ptions in one place. \n\n<b>In addition to the Aldridge Gardens parking lo
 t\, shuttle parking will be available from the old Bed Bath and Beyond lot
  in the Riverchase Shopping Center at the intersection of Highway 31 and L
 orna Road.</b>\n\n<b>Please note\, there will be no physical paper tickets
 </b>. Upon registration (see 'get tickets' button)\, your name(s) will be 
 added to our <b>'will call' list</b> and you will simply need to check in 
 when arriving at the event. Payment will be processed through PayPal and n
 o refunds will be available.\n\n<i>Since this is a special event\, we will
  not offer free admission to the Gardens during Taste of Hoover.</i>\n\nHe
 re's a list of area restaurants and preferred vendors that are scheduled t
 o serve up tasty options at this year's event.\n\n<b>2025 Restaurants\, Ca
 terers\, and Dessert Providers:</b>\n-Sweet Claire's Caboose\n-Edible Arra
 ngements\n-Saws BBQ Hoover\n-Big Whiskeys\n-East 59 Cafe\n-City Bowls\n-Th
 e Happy Catering Company\n-Tacos De Azul at Brock's Gap Brewing\n-Tre Luna
  Catering\n-Michelle's Chocolate Lab\n-Rock N Roll Sushi\n-Grimaldi's Pizz
 eria\n-Walk-On's Sports Bistreaux\n-HERO Doughnuts and Buns\n-Eugene's Hot
  Chicken\n-Cajun Steamer\n-Biscuit Belly\n-Cookie Fix Brock's Gap\n-Hyatt 
 Regency Birmingham-The Wynfrey Hotel\n-Jefferson State Community College\n
 -Carrabba's Italian Grill\n-Phil Sandoval's Mexican Restaurante\n-La Paz R
 estaurant & Catering\n-Newk's Eatery\n-Emily's Heirloom Pound Cakes\n-Supe
 r Chix Hoover\n-Savoie Catering\n-Classic Catering and Events\n-Sweet Dadd
 y's Sweet Potato Pies\n\n<b>2025 Beverage Providers:</b>\n-Brock's Gap Bre
 wing Company\n-Temper Coffee\n-Farm Bowl + Juice Co\n-Red Eye Louie's Bran
 d\n-Baba Java Coffee\n-Beach Whiskey\n-Pinaq Tropical Cocktails \n-Leiper'
 s Fork Bourbon\n-Darco Spirits\n\nOur vendor application process is now cl
 osed. For more information about being a part of Taste of Hoover 2025\, pl
 ease contact Kristen Valentine at 205.739.6554 or kristen.valentine@hoover
 alabama.gov.\n\n<b>THIS EVENT IS NOW SOLD OUT</b>\n
X-WR-RELCALID:a48a73de83d381a404491cd7b7e300b6
X-WR-TIMEZONE:America/Chicago
BEGIN:VTIMEZONE
TZID:America/Chicago
BEGIN:STANDARD
TZNAME:CST
DTSTART:20241103T020000
TZOFFSETFROM:-0500
TZOFFSETTO:-0600
RDATE:20251102T020000
RDATE:20261101T020000
END:STANDARD
BEGIN:DAYLIGHT
TZNAME:CDT
DTSTART:20250309T020000
TZOFFSETFROM:-0600
TZOFFSETTO:-0500
RDATE:20260308T020000
RDATE:20270314T020000
END:DAYLIGHT
END:VTIMEZONE
BEGIN:VEVENT
UID:2c747696-d78f-44cf-a87e-380da5b7167f
DTSTAMP:20260422T072327Z
DESCRIPTION:<b>TASTE OF HOOVER 2025</b>\n\n<b>THIS EVENT IS NOW SOLD OUT</b
 >\n\nTaste of Hoover celebrates the variety of culinary styles found throu
 ghout the city. Enjoy an autumn evening at the Gardens while sampling deli
 cious dishes from some of Hoover's best restaurants\, caterers\, and more.
  Plus\, get ready to taste assorted beverages and soft drinks while listen
 ing to music. \n\nSee our list of food and beverage providers below. One t
 icket provides you with access to all of these different food and drink op
 tions in one place. \n\n<b>In addition to the Aldridge Gardens parking lot
 \, shuttle parking will be available from the old Bed Bath and Beyond lot 
 in the Riverchase Shopping Center at the intersection of Highway 31 and Lo
 rna Road.</b>\n\n<b>Please note\, there will be no physical paper tickets<
 /b>. Upon registration (see 'get tickets' button)\, your name(s) will be a
 dded to our <b>'will call' list</b> and you will simply need to check in w
 hen arriving at the event. Payment will be processed through PayPal and no
  refunds will be available.\n\n<i>Since this is a special event\, we will 
 not offer free admission to the Gardens during Taste of Hoover.</i>\n\nHer
 e's a list of area restaurants and preferred vendors that are scheduled to
  serve up tasty options at this year's event.\n\n<b>2025 Restaurants\, Cat
 erers\, and Dessert Providers:</b>\n-Sweet Claire's Caboose\n-Edible Arran
 gements\n-Saws BBQ Hoover\n-Big Whiskeys\n-East 59 Cafe\n-City Bowls\n-The
  Happy Catering Company\n-Tacos De Azul at Brock's Gap Brewing\n-Tre Luna 
 Catering\n-Michelle's Chocolate Lab\n-Rock N Roll Sushi\n-Grimaldi's Pizze
 ria\n-Walk-On's Sports Bistreaux\n-HERO Doughnuts and Buns\n-Eugene's Hot 
 Chicken\n-Cajun Steamer\n-Biscuit Belly\n-Cookie Fix Brock's Gap\n-Hyatt R
 egency Birmingham-The Wynfrey Hotel\n-Jefferson State Community College\n-
 Carrabba's Italian Grill\n-Phil Sandoval's Mexican Restaurante\n-La Paz Re
 staurant & Catering\n-Newk's Eatery\n-Emily's Heirloom Pound Cakes\n-Super
  Chix Hoover\n-Savoie Catering\n-Classic Catering and Events\n-Sweet Daddy
 's Sweet Potato Pies\n\n<b>2025 Beverage Providers:</b>\n-Brock's Gap Brew
 ing Company\n-Temper Coffee\n-Farm Bowl + Juice Co\n-Red Eye Louie's Brand
 \n-Baba Java Coffee\n-Beach Whiskey\n-Pinaq Tropical Cocktails \n-Leiper's
  Fork Bourbon\n-Darco Spirits\n\nOur vendor application process is now clo
 sed. For more information about being a part of Taste of Hoover 2025\, ple
 ase contact Kristen Valentine at 205.739.6554 or kristen.valentine@hoovera
 labama.gov.\n\n<b>THIS EVENT IS NOW SOLD OUT</b>\n
DTSTART;TZID=America/Chicago:20251009T170000
DTEND;TZID=America/Chicago:20251009T200000
LOCATION:Aldridge Gardens
SUMMARY:Taste of Hoover
END:VEVENT
END:VCALENDAR
