BEGIN:VCALENDAR
VERSION:2.0
PRODID:-//aldridgegardens.com//NONSGML kigkonsult.se iCalcreator 2.30.10//
CALSCALE:GREGORIAN
METHOD:PUBLISH
UID:41d817c4-7d3c-45af-b2e4-840c30bd8331
X-WR-CALDESC:Mah-jongg for Absolute Beginners with Cynde Morgan\nLearn how 
 to play American Mah-jongg! Space is limited to 8 per class\, so please re
 gister. Supplies for learning are provided and books available for purchas
 e.\n\nThe class will be broken into the following segments:\n- Absolute be
 ginners - Players with no exposure to the game. \n- Beginners - Lessons wi
 ll focus on the Charleston and selecting a hand.\n- Experienced players ca
 n come for open play on Feb 1 & 15\, March 1 & 15\, April 19\, May 17\, an
 d June 7 & 21 from 2 to 4 p.m. Bring a current NMJL card and a Mah-jongg s
 et if you have one. No registration is necessary for open play. \n\n<b>Thi
 s series of classes is free and will be held from 2 to 4 p.m. on the follo
 wing days:</b>\n<a href='https://aldridgegardens.com/education/events/spri
 ng_event_calendar.html/calendar/2026/2'>February 1 – Absolute Beginners</a
 >\n<a href='https://aldridgegardens.com/education/events/spring_event_cale
 ndar.html/calendar/2026/2'>February 15 - Beginners</a>\n<a href='https://a
 ldridgegardens.com/education/events/spring_event_calendar.html/calendar/20
 26/3'>March 1 and 15 – Absolute Beginners</a>\n<a href='https://aldridgega
 rdens.com/education/events/spring_event_calendar.html/calendar/2026/4'>Apr
 il 19 - Beginners</a>\n<a href='https://aldridgegardens.com/education/even
 ts/spring_event_calendar.html/calendar/2026/5'>May 17 – Absolute Beginners
 </a>\n<a href='https://aldridgegardens.com/education/events/spring_event_c
 alendar.html/calendar/2026/6'>June 7 – Absolute Beginners</a>\n<a href='ht
 tps://aldridgegardens.com/education/events/spring_event_calendar.html/cale
 ndar/2026/6'>June 21 - Beginners</a>\n\n\nThese classes are free\, but you
  will need to <b>reserve your spot by using the 'register now' button</b> 
 at the top of the page <b>for each class.</b> You can click within the lis
 t above to link to the event calendar for each month. The number of reserv
 ations is limited.\n
X-WR-RELCALID:db1be5f43476e223510e899aaf99c03c
X-WR-TIMEZONE:America/Chicago
BEGIN:VTIMEZONE
TZID:America/Chicago
BEGIN:STANDARD
TZNAME:CST
DTSTART:20251102T020000
TZOFFSETFROM:-0500
TZOFFSETTO:-0600
RDATE:20261101T020000
END:STANDARD
BEGIN:DAYLIGHT
TZNAME:CDT
DTSTART:20250309T020000
TZOFFSETFROM:-0600
TZOFFSETTO:-0500
RDATE:20260308T020000
RDATE:20270314T020000
END:DAYLIGHT
END:VTIMEZONE
BEGIN:VEVENT
UID:e1f82d89-a473-44f8-8bd9-f97fee3cebb2
DTSTAMP:20260422T141011Z
DESCRIPTION:Mah-jongg for Absolute Beginners with Cynde Morgan\nLearn how t
 o play American Mah-jongg! Space is limited to 8 per class\, so please reg
 ister. Supplies for learning are provided and books available for purchase
 .\n\nThe class will be broken into the following segments:\n- Absolute beg
 inners - Players with no exposure to the game. \n- Beginners - Lessons wil
 l focus on the Charleston and selecting a hand.\n- Experienced players can
  come for open play on Feb 1 & 15\, March 1 & 15\, April 19\, May 17\, and
  June 7 & 21 from 2 to 4 p.m. Bring a current NMJL card and a Mah-jongg se
 t if you have one. No registration is necessary for open play. \n\n<b>This
  series of classes is free and will be held from 2 to 4 p.m. on the follow
 ing days:</b>\n<a href='https://aldridgegardens.com/education/events/sprin
 g_event_calendar.html/calendar/2026/2'>February 1 – Absolute Beginners</a>
 \n<a href='https://aldridgegardens.com/education/events/spring_event_calen
 dar.html/calendar/2026/2'>February 15 - Beginners</a>\n<a href='https://al
 dridgegardens.com/education/events/spring_event_calendar.html/calendar/202
 6/3'>March 1 and 15 – Absolute Beginners</a>\n<a href='https://aldridgegar
 dens.com/education/events/spring_event_calendar.html/calendar/2026/4'>Apri
 l 19 - Beginners</a>\n<a href='https://aldridgegardens.com/education/event
 s/spring_event_calendar.html/calendar/2026/5'>May 17 – Absolute Beginners<
 /a>\n<a href='https://aldridgegardens.com/education/events/spring_event_ca
 lendar.html/calendar/2026/6'>June 7 – Absolute Beginners</a>\n<a href='htt
 ps://aldridgegardens.com/education/events/spring_event_calendar.html/calen
 dar/2026/6'>June 21 - Beginners</a>\n\n\nThese classes are free\, but you 
 will need to <b>reserve your spot by using the 'register now' button</b> a
 t the top of the page <b>for each class.</b> You can click within the list
  above to link to the event calendar for each month. The number of reserva
 tions is limited.\n
DTSTART;TZID=America/Chicago:20260201T140000
DTEND;TZID=America/Chicago:20260201T160000
LOCATION:The House at Aldridge Gardens
SUMMARY:Mah-jongg - Absolute Beginner Class
END:VEVENT
END:VCALENDAR
