BEGIN:VCALENDAR
VERSION:2.0
PRODID:-//aldridgegardens.com//NONSGML kigkonsult.se iCalcreator 2.30.10//
CALSCALE:GREGORIAN
METHOD:PUBLISH
UID:5b53b34b-94b4-4fc0-90bf-0a9e9d4cb3a5
X-WR-CALDESC:A beginner-friendly restorative yoga practice open to all. Eri
 n Tate holds these classes every Thursday in the Aldridge House at 10 a.m.
 \n\nThese classes are free\, but you will need to <b>reserve your spot by 
 using the 'register now' button</b> at the top of the page <b>for each cla
 ss.</b> The number of reservations is limited.\n
X-WR-RELCALID:72b75c974009faac79b9100bc15f679b
X-WR-TIMEZONE:America/Chicago
BEGIN:VTIMEZONE
TZID:America/Chicago
BEGIN:STANDARD
TZNAME:CST
DTSTART:20251102T020000
TZOFFSETFROM:-0500
TZOFFSETTO:-0600
RDATE:20261101T020000
END:STANDARD
BEGIN:DAYLIGHT
TZNAME:CDT
DTSTART:20250309T020000
TZOFFSETFROM:-0600
TZOFFSETTO:-0500
RDATE:20260308T020000
RDATE:20270314T020000
END:DAYLIGHT
END:VTIMEZONE
BEGIN:VEVENT
UID:378d3884-9313-42fa-9674-37541a584948
DTSTAMP:20260422T135615Z
DESCRIPTION:A beginner-friendly restorative yoga practice open to all. Erin
  Tate holds these classes every Thursday in the Aldridge House at 10 a.m.
 \n\nThese classes are free\, but you will need to <b>reserve your spot by 
 using the 'register now' button</b> at the top of the page <b>for each cla
 ss.</b> The number of reservations is limited.\n
DTSTART;TZID=America/Chicago:20260205T100000
DTEND;TZID=America/Chicago:20260205T110000
LOCATION:The House at Aldridge Gardens
SUMMARY:Immersive Yoga
END:VEVENT
END:VCALENDAR
