BEGIN:VCALENDAR
VERSION:2.0
PRODID:-//aldridgegardens.com//NONSGML kigkonsult.se iCalcreator 2.30.10//
CALSCALE:GREGORIAN
METHOD:PUBLISH
UID:f01afda2-1199-4c10-87bc-cd4f5ca1d9b5
X-WR-CALDESC:This is a monthly creative workshop held by local artist Daria
 na Dervis exploring various mediums. \n\nMake a Victorian Puzzle Purse on 
 Sunday\, Feb 8 from 2-4pm. An intricately folded paper keepsake dating bac
 k to the 19th century\, puzzle purses were used to convey secret messages\
 , poems\, or tokens of affection like locks of hair. Resembling a small en
 velope or folded note\, it unfolds in layers to reveal hidden messages and
  drawings. All materials will be provided\, just show up and create!\n\nCl
 asses are scheduled for the following dates and times:\nFebruary 8th from 
 2 to 4 p.m. (Sunday)\n<a href='https://aldridgegardens.com/education/event
 s/spring_event_calendar.html/calendar/2026/3'>March 21st from 2 to 4 p.m. 
 (Saturday)</a>\n<a href='https://aldridgegardens.com/education/events/spri
 ng_event_calendar.html/calendar/2026/4'>April 18th from 10 a.m. to noon (S
 aturday)</a>\n<a href='https://aldridgegardens.com/education/events/spring
 _event_calendar.html/calendar/2026/5'>May 16th from 10:30 a.m. to 12:30 p.
 m. (Saturday)</a>\n<a href='https://aldridgegardens.com/education/events/s
 pring_event_calendar.html/calendar/2026/6'>June 20th from 10 a.m. to noon 
 (Saturday)</a>\n\nUse the 'register now' link at the top of this page to s
 ign up. Cost for the class is $20 for the public and $10 for Aldridge Gard
 ens members. Payment will be processed through PayPal.
X-WR-RELCALID:54039e2d1d173466c156b3d06f61af09
X-WR-TIMEZONE:America/Chicago
BEGIN:VTIMEZONE
TZID:America/Chicago
BEGIN:STANDARD
TZNAME:CST
DTSTART:20251102T020000
TZOFFSETFROM:-0500
TZOFFSETTO:-0600
RDATE:20261101T020000
END:STANDARD
BEGIN:DAYLIGHT
TZNAME:CDT
DTSTART:20250309T020000
TZOFFSETFROM:-0600
TZOFFSETTO:-0500
RDATE:20260308T020000
RDATE:20270314T020000
END:DAYLIGHT
END:VTIMEZONE
BEGIN:VEVENT
UID:f5fee8ae-58be-4b43-9bd9-bc69d688f14e
DTSTAMP:20260422T134253Z
DESCRIPTION:This is a monthly creative workshop held by local artist Darian
 a Dervis exploring various mediums. \n\nMake a Victorian Puzzle Purse on S
 unday\, Feb 8 from 2-4pm. An intricately folded paper keepsake dating back
  to the 19th century\, puzzle purses were used to convey secret messages\,
  poems\, or tokens of affection like locks of hair. Resembling a small env
 elope or folded note\, it unfolds in layers to reveal hidden messages and 
 drawings. All materials will be provided\, just show up and create!\n\nCla
 sses are scheduled for the following dates and times:\nFebruary 8th from 2
  to 4 p.m. (Sunday)\n<a href='https://aldridgegardens.com/education/events
 /spring_event_calendar.html/calendar/2026/3'>March 21st from 2 to 4 p.m. (
 Saturday)</a>\n<a href='https://aldridgegardens.com/education/events/sprin
 g_event_calendar.html/calendar/2026/4'>April 18th from 10 a.m. to noon (Sa
 turday)</a>\n<a href='https://aldridgegardens.com/education/events/spring_
 event_calendar.html/calendar/2026/5'>May 16th from 10:30 a.m. to 12:30 p.m
 . (Saturday)</a>\n<a href='https://aldridgegardens.com/education/events/sp
 ring_event_calendar.html/calendar/2026/6'>June 20th from 10 a.m. to noon (
 Saturday)</a>\n\nUse the 'register now' link at the top of this page to si
 gn up. Cost for the class is $20 for the public and $10 for Aldridge Garde
 ns members. Payment will be processed through PayPal.
DTSTART;TZID=America/Chicago:20260208T140000
DTEND;TZID=America/Chicago:20260208T160000
LOCATION:The Education Building at Aldridge Gardens
SUMMARY:Art Studio in the Gardens
END:VEVENT
END:VCALENDAR
