BEGIN:VCALENDAR
VERSION:2.0
PRODID:-//aldridgegardens.com//NONSGML kigkonsult.se iCalcreator 2.30.10//
CALSCALE:GREGORIAN
METHOD:PUBLISH
UID:0f9a8887-e33c-4de5-bed0-2dba3f751db3
X-WR-CALDESC:The February Bonsai Society Members Workshop will be held on S
 aturday the 14th\, in the NaphCare Education Building at Aldridge Gardens.
  Please bring your trees to work on with John. \n\nYou will need to reserv
 e your spot by using the 'register now' button at the top of this page. Th
 e number of reservations is limited. \n\nIf you would like more informatio
 n about the Aldridge Gardens Bonsai Society\, please contact Janet Abernat
 hy at janet.abernathy@hooveralabama.gov. \n\n
X-WR-RELCALID:6bbfa740af993dc8824a437257cfa621
X-WR-TIMEZONE:America/Chicago
BEGIN:VTIMEZONE
TZID:America/Chicago
BEGIN:STANDARD
TZNAME:CST
DTSTART:20251102T020000
TZOFFSETFROM:-0500
TZOFFSETTO:-0600
RDATE:20261101T020000
END:STANDARD
BEGIN:DAYLIGHT
TZNAME:CDT
DTSTART:20250309T020000
TZOFFSETFROM:-0600
TZOFFSETTO:-0500
RDATE:20260308T020000
RDATE:20270314T020000
END:DAYLIGHT
END:VTIMEZONE
BEGIN:VEVENT
UID:18bde55f-575a-45d3-ae5b-3fbec2e35cf6
DTSTAMP:20260422T135952Z
DESCRIPTION:The February Bonsai Society Members Workshop will be held on Sa
 turday the 14th\, in the NaphCare Education Building at Aldridge Gardens. 
 Please bring your trees to work on with John. \n\nYou will need to reserve
  your spot by using the 'register now' button at the top of this page. The
  number of reservations is limited. \n\nIf you would like more information
  about the Aldridge Gardens Bonsai Society\, please contact Janet Abernath
 y at janet.abernathy@hooveralabama.gov. \n\n
DTSTART;TZID=America/Chicago:20260214T080000
DTEND;TZID=America/Chicago:20260214T110000
LOCATION:Education Building at Aldridge Gardens
SUMMARY:Bonsai Society Members Workshop
END:VEVENT
END:VCALENDAR
