BEGIN:VCALENDAR
VERSION:2.0
PRODID:-//aldridgegardens.com//NONSGML kigkonsult.se iCalcreator 2.30.10//
CALSCALE:GREGORIAN
METHOD:PUBLISH
UID:8a639f9a-0221-45b2-b227-571526d484be
X-WR-CALDESC:Discover the rich history of tea\, explore different tea types
 \, and learn brewing techniques with Dixya Bhattarai.\n\nWorkshops will be
  held at 10 a.m. on the following dates: \nFebruary 21st\n<a href='https:/
 /aldridgegardens.com/education/events/spring_event_calendar.html/calendar/
 2026/3'>March 25th</a>\n<a href='https://aldridgegardens.com/education/eve
 nts/spring_event_calendar.html/calendar/2026/4'>April 25th</a>\n<a href='h
 ttps://aldridgegardens.com/education/events/spring_event_calendar.html/cal
 endar/2026/5'>May 30th</a>\n\nThese classes are free\, but you will need t
 o <b>reserve your spot by using the 'register now' button</b> at the top o
 f the page <b>for each class.</b> The number of reservations is limited.\n
X-WR-RELCALID:5eda77b002dfbbb4ce9247579c0fd844
X-WR-TIMEZONE:America/Chicago
BEGIN:VTIMEZONE
TZID:America/Chicago
BEGIN:STANDARD
TZNAME:CST
DTSTART:20251102T020000
TZOFFSETFROM:-0500
TZOFFSETTO:-0600
RDATE:20261101T020000
END:STANDARD
BEGIN:DAYLIGHT
TZNAME:CDT
DTSTART:20250309T020000
TZOFFSETFROM:-0600
TZOFFSETTO:-0500
RDATE:20260308T020000
RDATE:20270314T020000
END:DAYLIGHT
END:VTIMEZONE
BEGIN:VEVENT
UID:f5652d1e-a836-47f1-b0df-7e4a5453f316
DTSTAMP:20260422T141212Z
DESCRIPTION:Discover the rich history of tea\, explore different tea types\
 , and learn brewing techniques with Dixya Bhattarai.\n\nWorkshops will be 
 held at 10 a.m. on the following dates: \nFebruary 21st\n<a href='https://
 aldridgegardens.com/education/events/spring_event_calendar.html/calendar/2
 026/3'>March 25th</a>\n<a href='https://aldridgegardens.com/education/even
 ts/spring_event_calendar.html/calendar/2026/4'>April 25th</a>\n<a href='ht
 tps://aldridgegardens.com/education/events/spring_event_calendar.html/cale
 ndar/2026/5'>May 30th</a>\n\nThese classes are free\, but you will need to
  <b>reserve your spot by using the 'register now' button</b> at the top of
  the page <b>for each class.</b> The number of reservations is limited.\n
DTSTART;TZID=America/Chicago:20260221T100000
DTEND;TZID=America/Chicago:20260221T113000
LOCATION:The Education Building at Aldridge Gardens
SUMMARY:Tea Tasting Workshop
END:VEVENT
END:VCALENDAR
