BEGIN:VCALENDAR
VERSION:2.0
PRODID:-//aldridgegardens.com//NONSGML kigkonsult.se iCalcreator 2.30.10//
CALSCALE:GREGORIAN
METHOD:PUBLISH
UID:47c37563-8ef8-4879-b0c8-9c917fd18fe1
X-WR-CALDESC:Join us for an Arbor Day extravaganza hosted by the Beautifica
 tion Board! The city of Hoover's 27th Annual Arbor Day Celebration will ta
 ke place on <b>Saturday\, March 7 from 8-11 a.m. at Aldridge Gardens</b>.
 \n\nAttendees will get to enjoy the beauty of Aldridge Gardens with free t
 rees\, enlightening educational exhibitors\, delightful kids' activities a
 nd scrumptious food from a local food truck. Let's cultivate a greener\, v
 ibrant community together!\n\nTrees will be given away <b>courtesy of the 
 Hoover Parks and Recreation Foundation</b>. These trees have all been grow
 n in three-gallon-size pots and currently range in a height of 3-6 feet. B
 e sure to come early as they will only be available while supplies last. <
 b>There is a limit of one tree per household.</b>\n\n<b>Here's a list of t
 he trees scheduled to be given out:</b>\n- Piedmont Azalea\n- Persimmon\n-
  Bald Cypress\n- Ginkgo Biloba\n- Shoal Creek Chaste\n- Longleaf Pine\n- P
 awpaw\n- Bur Oak\n- Dwarf Chinquapin Oak\n\n<b>Free shuttle service availa
 ble</b> from the edge of the Trader Joe’s parking lot in Hoover (former Be
 d\, Bath\, and Beyond location). Pickup and drop-off will be close to Lorn
 a Road.\n\n#UniteServeEnrich #ParksandRec #CityOfHoover #ArborDayCelebrati
 on\n
X-WR-RELCALID:7fa08c44300ccffae6c32b588e019a30
X-WR-TIMEZONE:America/Chicago
BEGIN:VTIMEZONE
TZID:America/Chicago
BEGIN:STANDARD
TZNAME:CST
DTSTART:20251102T020000
TZOFFSETFROM:-0500
TZOFFSETTO:-0600
RDATE:20261101T020000
END:STANDARD
BEGIN:DAYLIGHT
TZNAME:CDT
DTSTART:20250309T020000
TZOFFSETFROM:-0600
TZOFFSETTO:-0500
RDATE:20260308T020000
RDATE:20270314T020000
END:DAYLIGHT
END:VTIMEZONE
BEGIN:VEVENT
UID:73d10c6b-3c17-4601-a1f8-b5091d37ff4f
DTSTAMP:20260422T153128Z
DESCRIPTION:Join us for an Arbor Day extravaganza hosted by the Beautificat
 ion Board! The city of Hoover's 27th Annual Arbor Day Celebration will tak
 e place on <b>Saturday\, March 7 from 8-11 a.m. at Aldridge Gardens</b>.\n
 \nAttendees will get to enjoy the beauty of Aldridge Gardens with free tre
 es\, enlightening educational exhibitors\, delightful kids' activities and
  scrumptious food from a local food truck. Let's cultivate a greener\, vib
 rant community together!\n\nTrees will be given away <b>courtesy of the Ho
 over Parks and Recreation Foundation</b>. These trees have all been grown 
 in three-gallon-size pots and currently range in a height of 3-6 feet. Be 
 sure to come early as they will only be available while supplies last. <b>
 There is a limit of one tree per household.</b>\n\n<b>Here's a list of the
  trees scheduled to be given out:</b>\n- Piedmont Azalea\n- Persimmon\n- B
 ald Cypress\n- Ginkgo Biloba\n- Shoal Creek Chaste\n- Longleaf Pine\n- Paw
 paw\n- Bur Oak\n- Dwarf Chinquapin Oak\n\n<b>Free shuttle service availabl
 e</b> from the edge of the Trader Joe’s parking lot in Hoover (former Bed\
 , Bath\, and Beyond location). Pickup and drop-off will be close to Lorna 
 Road.\n\n#UniteServeEnrich #ParksandRec #CityOfHoover #ArborDayCelebration
 \n
DTSTART;TZID=America/Chicago:20260307T080000
DTEND;TZID=America/Chicago:20260307T110000
LOCATION:Aldridge Gardens
SUMMARY:City of Hoover’s 27th Annual Arbor Day Celebration
END:VEVENT
END:VCALENDAR
