BEGIN:VCALENDAR
VERSION:2.0
PRODID:-//aldridgegardens.com//NONSGML kigkonsult.se iCalcreator 2.30.10//
CALSCALE:GREGORIAN
METHOD:PUBLISH
UID:210b7db6-8fc7-4b60-8615-f262a1a22aa7
X-WR-CALDESC:The March Bonsai Society Members Workshop will be held on Satu
 rday the 21st\, in the NaphCare Education Building at Aldridge Gardens. Pl
 ease bring your trees to work on with John. \n\nYou will need to reserve y
 our spot by using the 'register now' button at the top of this page. The n
 umber of reservations is limited. \n\nIf you would like more information a
 bout the Aldridge Gardens Bonsai Society\, please contact Janet Abernathy 
 at janet.abernathy@hooveralabama.gov. \n\n
X-WR-RELCALID:1e6e7d1ae99ca4a7077c4c563126082e
X-WR-TIMEZONE:America/Chicago
BEGIN:VTIMEZONE
TZID:America/Chicago
BEGIN:STANDARD
TZNAME:CST
DTSTART:20251102T020000
TZOFFSETFROM:-0500
TZOFFSETTO:-0600
RDATE:20261101T020000
END:STANDARD
BEGIN:DAYLIGHT
TZNAME:CDT
DTSTART:20260308T020000
TZOFFSETFROM:-0600
TZOFFSETTO:-0500
RDATE:20270314T020000
END:DAYLIGHT
END:VTIMEZONE
BEGIN:VEVENT
UID:071b294f-0765-4775-923a-b1040654815a
DTSTAMP:20260422T152224Z
DESCRIPTION:The March Bonsai Society Members Workshop will be held on Satur
 day the 21st\, in the NaphCare Education Building at Aldridge Gardens. Ple
 ase bring your trees to work on with John. \n\nYou will need to reserve yo
 ur spot by using the 'register now' button at the top of this page. The nu
 mber of reservations is limited. \n\nIf you would like more information ab
 out the Aldridge Gardens Bonsai Society\, please contact Janet Abernathy a
 t janet.abernathy@hooveralabama.gov. \n\n
DTSTART;TZID=America/Chicago:20260321T080000
DTEND;TZID=America/Chicago:20260321T110000
LOCATION:Education Building at Aldridge Gardens
SUMMARY:Bonsai Society Members Workshop
END:VEVENT
END:VCALENDAR
