BEGIN:VCALENDAR
VERSION:2.0
PRODID:-//aldridgegardens.com//NONSGML kigkonsult.se iCalcreator 2.30.10//
CALSCALE:GREGORIAN
METHOD:PUBLISH
UID:3b23c454-1a1c-46c7-be00-f6d7b3ebff53
X-WR-CALDESC:A beginner-friendly restorative yoga practice open to all. Eri
 n Tate holds these classes every Thursday in the Aldridge House at 10 a.m.
 \n\nThese classes are free\, but you will need to <b>reserve your spot by 
 using the 'register now' button</b> at the top of the page <b>for each cla
 ss.</b> The number of reservations is limited.\n
X-WR-RELCALID:512c739bbd68a4cb3aeb93ddac90b6e7
X-WR-TIMEZONE:America/Chicago
BEGIN:VTIMEZONE
TZID:America/Chicago
BEGIN:STANDARD
TZNAME:CST
DTSTART:20251102T020000
TZOFFSETFROM:-0500
TZOFFSETTO:-0600
RDATE:20261101T020000
END:STANDARD
BEGIN:DAYLIGHT
TZNAME:CDT
DTSTART:20260308T020000
TZOFFSETFROM:-0600
TZOFFSETTO:-0500
RDATE:20270314T020000
END:DAYLIGHT
END:VTIMEZONE
BEGIN:VEVENT
UID:2a928231-ac53-43f3-9b4b-14da4cb465cc
DTSTAMP:20260422T171742Z
DESCRIPTION:A beginner-friendly restorative yoga practice open to all. Erin
  Tate holds these classes every Thursday in the Aldridge House at 10 a.m.
 \n\nThese classes are free\, but you will need to <b>reserve your spot by 
 using the 'register now' button</b> at the top of the page <b>for each cla
 ss.</b> The number of reservations is limited.\n
DTSTART;TZID=America/Chicago:20260409T100000
DTEND;TZID=America/Chicago:20260409T110000
LOCATION:The House at Aldridge Gardens
SUMMARY:Immersive Yoga
END:VEVENT
END:VCALENDAR
