BEGIN:VCALENDAR
VERSION:2.0
PRODID:-//aldridgegardens.com//NONSGML kigkonsult.se iCalcreator 2.30.10//
CALSCALE:GREGORIAN
METHOD:PUBLISH
UID:c3b5aa6f-5d9d-4628-b14d-af58a7f5f1bf
X-WR-CALDESC:The May Bonsai Society Members Workshop will be held on Saturd
 ay the 2nd\, in the NaphCare Education Building at Aldridge Gardens. Pleas
 e bring your trees to work on with John. \n\nYou will need to reserve your
  spot by using the 'register now' button at the top of this page. The numb
 er of reservations is limited. \n\nIf you would like more information abou
 t the Aldridge Gardens Bonsai Society\, please contact Janet Abernathy at 
 janet.abernathy@hooveralabama.gov. \n\n
X-WR-RELCALID:320523fdc6052b3911e0798c61a78731
X-WR-TIMEZONE:America/Chicago
BEGIN:VTIMEZONE
TZID:America/Chicago
BEGIN:STANDARD
TZNAME:CST
DTSTART:20251102T020000
TZOFFSETFROM:-0500
TZOFFSETTO:-0600
RDATE:20261101T020000
END:STANDARD
BEGIN:DAYLIGHT
TZNAME:CDT
DTSTART:20260308T020000
TZOFFSETFROM:-0600
TZOFFSETTO:-0500
RDATE:20270314T020000
END:DAYLIGHT
END:VTIMEZONE
BEGIN:VEVENT
UID:75356a33-4f04-4cc3-ba85-7a025e2bffa1
DTSTAMP:20260424T024848Z
DESCRIPTION:The May Bonsai Society Members Workshop will be held on Saturda
 y the 2nd\, in the NaphCare Education Building at Aldridge Gardens. Please
  bring your trees to work on with John. \n\nYou will need to reserve your 
 spot by using the 'register now' button at the top of this page. The numbe
 r of reservations is limited. \n\nIf you would like more information about
  the Aldridge Gardens Bonsai Society\, please contact Janet Abernathy at j
 anet.abernathy@hooveralabama.gov. \n\n
DTSTART;TZID=America/Chicago:20260502T080000
DTEND;TZID=America/Chicago:20260502T110000
LOCATION:Education Building at Aldridge Gardens
SUMMARY:Bonsai Society Members Workshop
END:VEVENT
END:VCALENDAR
