BEGIN:VCALENDAR
VERSION:2.0
PRODID:-//aldridgegardens.com//NONSGML kigkonsult.se iCalcreator 2.30.10//
CALSCALE:GREGORIAN
METHOD:PUBLISH
UID:1b3d5211-81ef-49ae-a406-ee56541cd0d2
X-WR-CALDESC:<b>Aldridge Gardens Summer Camps</b>\n\nOur camps are availabl
 e for boys and girls entering kindergarten through 3rd grades. Whether you
 r little campers like American Girl Dolls\, Art\, Nature Crafts\, or S.T.E
 .A.M. (Science\, Technology\, Engineering\, Art\, and Math)\, we have some
 thing they are sure to enjoy.\n\n<b><a href='https://aldridgegardens.com/e
 ducation/summer-camps/2026-schedule-and-registration.html'>More details an
 d links to registration are available here.</a></b>
X-WR-RELCALID:88551417bbe9c8d64f49e1b20c19dd44
X-WR-TIMEZONE:America/Chicago
BEGIN:VTIMEZONE
TZID:America/Chicago
BEGIN:STANDARD
TZNAME:CST
DTSTART:20251102T020000
TZOFFSETFROM:-0500
TZOFFSETTO:-0600
RDATE:20261101T020000
RDATE:20271107T020000
END:STANDARD
BEGIN:DAYLIGHT
TZNAME:CDT
DTSTART:20260308T020000
TZOFFSETFROM:-0600
TZOFFSETTO:-0500
RDATE:20270314T020000
END:DAYLIGHT
END:VTIMEZONE
BEGIN:VEVENT
UID:caa5be1f-8c4b-4557-8e17-4e96ac9907fe
DTSTAMP:20260424T024908Z
DESCRIPTION:<b>Aldridge Gardens Summer Camps</b>\n\nOur camps are available
  for boys and girls entering kindergarten through 3rd grades. Whether your
  little campers like American Girl Dolls\, Art\, Nature Crafts\, or S.T.E.
 A.M. (Science\, Technology\, Engineering\, Art\, and Math)\, we have somet
 hing they are sure to enjoy.\n\n<b><a href='https://aldridgegardens.com/ed
 ucation/summer-camps/2026-schedule-and-registration.html'>More details and
  links to registration are available here.</a></b>
DTSTART;TZID=America/Chicago:20260601T090000
DTEND;TZID=America/Chicago:20260601T120000
LOCATION:Aldridge Gardens
SUMMARY:Summer Camps Week 1
END:VEVENT
END:VCALENDAR
