BEGIN:VCALENDAR
VERSION:2.0
PRODID:-//aldridgegardens.com//NONSGML kigkonsult.se iCalcreator 2.30.10//
CALSCALE:GREGORIAN
METHOD:PUBLISH
UID:8c461550-235a-4229-858a-90015890a971
X-WR-CALDESC:This is a monthly creative workshop held by local artist Daria
 na Dervis exploring various mediums. \n\nClasses are scheduled for the fol
 lowing dates and times:\nMarch 21st from 2 to 4 p.m. (Saturday)\nApril 18t
 h from 10 a.m. to noon (Saturday)\nMay 16th from 10:30 a.m. to 12:30 p.m. 
 (Saturday)\nJune 20th from 10 a.m. to noon (Saturday)\n\nUse the 'register
  now' link at the top of this page to sign up. Cost for the class is $20 f
 or the public and $10 for Aldridge Gardens members. Payment will be proces
 sed through PayPal.
X-WR-RELCALID:1f9832414df9f5a4551e5cd6e1e38bb2
X-WR-TIMEZONE:America/Chicago
BEGIN:VTIMEZONE
TZID:America/Chicago
BEGIN:STANDARD
TZNAME:CST
DTSTART:20251102T020000
TZOFFSETFROM:-0500
TZOFFSETTO:-0600
RDATE:20261101T020000
RDATE:20271107T020000
END:STANDARD
BEGIN:DAYLIGHT
TZNAME:CDT
DTSTART:20260308T020000
TZOFFSETFROM:-0600
TZOFFSETTO:-0500
RDATE:20270314T020000
END:DAYLIGHT
END:VTIMEZONE
BEGIN:VEVENT
UID:ce0e2e92-c785-4447-bda1-d1c0551310fe
DTSTAMP:20260421T105017Z
DESCRIPTION:This is a monthly creative workshop held by local artist Darian
 a Dervis exploring various mediums. \n\nClasses are scheduled for the foll
 owing dates and times:\nMarch 21st from 2 to 4 p.m. (Saturday)\nApril 18th
  from 10 a.m. to noon (Saturday)\nMay 16th from 10:30 a.m. to 12:30 p.m. (
 Saturday)\nJune 20th from 10 a.m. to noon (Saturday)\n\nUse the 'register 
 now' link at the top of this page to sign up. Cost for the class is $20 fo
 r the public and $10 for Aldridge Gardens members. Payment will be process
 ed through PayPal.
DTSTART;TZID=America/Chicago:20260620T100000
DTEND;TZID=America/Chicago:20260620T120000
LOCATION:The Education Building at Aldridge Gardens
SUMMARY:Art Studio in the Gardens
END:VEVENT
END:VCALENDAR
