BEGIN:VCALENDAR
VERSION:2.0
PRODID:-//aldridgegardens.com//NONSGML kigkonsult.se iCalcreator 2.30.10//
CALSCALE:GREGORIAN
METHOD:PUBLISH
UID:3cd1e995-3b3b-407d-8797-97ed49ef66d3
X-WR-CALDESC:Propagator level members will enjoy their monthly wine recepti
 on while mixing and mingling with the artist. \n\nPresently the Executive 
 Producer/Artistic Director Emeritus of Theatre Tuscaloosa\, Mr. Looney\, i
 n 2003\, returned to his lifelong passion for graphic art and began a “new
 ” career as a studio artist. Working primarily in acrylics and oils\, Mr. 
 Looney has exhibited extensively in the area and his work hangs in galleri
 es and homes throughout the state and south. At present\, his work is on d
 isplay at the Callen Gallery\, New Orleans and Harrison Gallery in Tuscalo
 osa. In 2003\, he spent an extended time in Vence\, France painting with t
 he internationally acclaimed master\, Nall. \n\nLearn more about his exten
 sive background in theatre and see additional samples of his work in our <
 a href='http://aldridgegardens.com/art/in_the_gallery/art-gallery.html'>on
 line gallery</a>. \n\nJoin us on Monday the 13th to hear Paul speak direct
 ly about his exhibit at Aldridge Gardens. \n\nThis propagator member event
  will roll into the general artist reception beginning at 6 p.m. \n
X-WR-RELCALID:78c4c875d80e27465428fee42b09444c
X-WR-TIMEZONE:America/Chicago
BEGIN:VTIMEZONE
TZID:America/Chicago
BEGIN:STANDARD
TZNAME:CST
DTSTART:20171105T020000
TZOFFSETFROM:-0500
TZOFFSETTO:-0600
RDATE:20181104T020000
RDATE:20191103T020000
END:STANDARD
BEGIN:DAYLIGHT
TZNAME:CDT
DTSTART:20180311T020000
TZOFFSETFROM:-0600
TZOFFSETTO:-0500
RDATE:20190310T020000
END:DAYLIGHT
END:VTIMEZONE
BEGIN:VEVENT
UID:41d6a19f-d617-4eec-a907-f08accfa0219
DTSTAMP:20260420T235738Z
DESCRIPTION:Propagator level members will enjoy their monthly wine receptio
 n while mixing and mingling with the artist. \n\nPresently the Executive P
 roducer/Artistic Director Emeritus of Theatre Tuscaloosa\, Mr. Looney\, in
  2003\, returned to his lifelong passion for graphic art and began a “new”
  career as a studio artist. Working primarily in acrylics and oils\, Mr. L
 ooney has exhibited extensively in the area and his work hangs in gallerie
 s and homes throughout the state and south. At present\, his work is on di
 splay at the Callen Gallery\, New Orleans and Harrison Gallery in Tuscaloo
 sa. In 2003\, he spent an extended time in Vence\, France painting with th
 e internationally acclaimed master\, Nall. \n\nLearn more about his extens
 ive background in theatre and see additional samples of his work in our <a
  href='http://aldridgegardens.com/art/in_the_gallery/art-gallery.html'>onl
 ine gallery</a>. \n\nJoin us on Monday the 13th to hear Paul speak directl
 y about his exhibit at Aldridge Gardens. \n\nThis propagator member event 
 will roll into the general artist reception beginning at 6 p.m. \n
DTSTART;TZID=America/Chicago:20180813T170000
DTEND;TZID=America/Chicago:20180813T180000
LOCATION:Eddie and Kay Aldridge Arts and Historical Collections Museum
SUMMARY:Propagator Wine Reception - Paul Looney
END:VEVENT
END:VCALENDAR
